BEGIN:VCALENDAR
VERSION:2.0
PRODID:-//The Skagit Table - ECPv6.15.18//NONSGML v1.0//EN
CALSCALE:GREGORIAN
METHOD:PUBLISH
X-ORIGINAL-URL:https://theskagittable.com
X-WR-CALDESC:Events for The Skagit Table
REFRESH-INTERVAL;VALUE=DURATION:PT1H
X-Robots-Tag:noindex
X-PUBLISHED-TTL:PT1H
BEGIN:VTIMEZONE
TZID:America/Los_Angeles
BEGIN:DAYLIGHT
TZOFFSETFROM:-0800
TZOFFSETTO:-0700
TZNAME:PDT
DTSTART:20240310T100000
END:DAYLIGHT
BEGIN:STANDARD
TZOFFSETFROM:-0700
TZOFFSETTO:-0800
TZNAME:PST
DTSTART:20241103T090000
END:STANDARD
BEGIN:DAYLIGHT
TZOFFSETFROM:-0800
TZOFFSETTO:-0700
TZNAME:PDT
DTSTART:20250309T100000
END:DAYLIGHT
BEGIN:STANDARD
TZOFFSETFROM:-0700
TZOFFSETTO:-0800
TZNAME:PST
DTSTART:20251102T090000
END:STANDARD
BEGIN:DAYLIGHT
TZOFFSETFROM:-0800
TZOFFSETTO:-0700
TZNAME:PDT
DTSTART:20260308T100000
END:DAYLIGHT
BEGIN:STANDARD
TZOFFSETFROM:-0700
TZOFFSETTO:-0800
TZNAME:PST
DTSTART:20261101T090000
END:STANDARD
END:VTIMEZONE
BEGIN:VEVENT
DTSTART;TZID=America/Los_Angeles:20250426T090000
DTEND;TZID=America/Los_Angeles:20250426T130000
DTSTAMP:20260422T090139
CREATED:20250327T193449Z
LAST-MODIFIED:20250327T193620Z
UID:8069-1745658000-1745672400@theskagittable.com
SUMMARY:Earth Day Celebration @ Edgewater Park
DESCRIPTION:Date:\nApril 26\, 2025\n\n\nTime:\n9:00 AM - 1:00 PM\n\n\nEnjoy live animal presentations featuring reptiles and raptors\, explore booths from environmental groups\, and help restore the riparian habitat with Skagit Fisheries Enhancement Group. Don’t miss the ivy pulling contest- longest vine wins a prize! \nThe Earth Day Celebration brings together hundreds of community members for a day filled with hands-on volunteering\, interactive education\, and family-friendly fun. \nWe will have a booth set up with some yummy snacks for sale and we’re also making the dirt cups for the “Worm-Off” competition!
URL:https://theskagittable.com/event/earth-day-celebration-edgewater-park/
LOCATION:WA
ATTACH;FMTTYPE=image/jpeg:https://theskagittable.com/wp-content/uploads/2025/03/Earth-day.jpg
END:VEVENT
BEGIN:VEVENT
DTSTART;TZID=America/Los_Angeles:20250426T100000
DTEND;TZID=America/Los_Angeles:20250426T140000
DTSTAMP:20260422T090139
CREATED:20250328T185056Z
LAST-MODIFIED:20250328T185056Z
UID:8114-1745661600-1745676000@theskagittable.com
SUMMARY:Bellingham Farmers Market
DESCRIPTION:We will have a recurring booth at The Bellingham Farmers Market! \nThe Bellingham Farmers Market is more than just a place to buy fresh produce and hand crafted products. It fosters a sense of community and acts a gathering place for friends and family. \nThe 100+ stall market is a favorite among locals and tourists alike. The market brings many people to downtown Bellingham throughout the seasons. \nYear after year\, the market remains a vibrant gathering place for the community and continues to foster a culture of shopping local.
URL:https://theskagittable.com/event/bellingham-farmers-market-4/
LOCATION:Bellingham Farmers Market\, 1100 Railroad Ave\, Bellingham\, WA\, 98225\, United States
CATEGORIES:Farmers Market
ATTACH;FMTTYPE=image/png:https://theskagittable.com/wp-content/uploads/2025/03/VendorNewsletterheading5-e1743187037195.png
ORGANIZER;CN="Bellingham Farmers Market":MAILTO:market@bellinghamfarmers.org
END:VEVENT
END:VCALENDAR