BEGIN:VCALENDAR
VERSION:2.0
PRODID:-//The Skagit Table - ECPv6.15.18//NONSGML v1.0//EN
CALSCALE:GREGORIAN
METHOD:PUBLISH
X-ORIGINAL-URL:https://theskagittable.com
X-WR-CALDESC:Events for The Skagit Table
REFRESH-INTERVAL;VALUE=DURATION:PT1H
X-Robots-Tag:noindex
X-PUBLISHED-TTL:PT1H
BEGIN:VTIMEZONE
TZID:America/Los_Angeles
BEGIN:DAYLIGHT
TZOFFSETFROM:-0800
TZOFFSETTO:-0700
TZNAME:PDT
DTSTART:20240310T100000
END:DAYLIGHT
BEGIN:STANDARD
TZOFFSETFROM:-0700
TZOFFSETTO:-0800
TZNAME:PST
DTSTART:20241103T090000
END:STANDARD
BEGIN:DAYLIGHT
TZOFFSETFROM:-0800
TZOFFSETTO:-0700
TZNAME:PDT
DTSTART:20250309T100000
END:DAYLIGHT
BEGIN:STANDARD
TZOFFSETFROM:-0700
TZOFFSETTO:-0800
TZNAME:PST
DTSTART:20251102T090000
END:STANDARD
BEGIN:DAYLIGHT
TZOFFSETFROM:-0800
TZOFFSETTO:-0700
TZNAME:PDT
DTSTART:20260308T100000
END:DAYLIGHT
BEGIN:STANDARD
TZOFFSETFROM:-0700
TZOFFSETTO:-0800
TZNAME:PST
DTSTART:20261101T090000
END:STANDARD
BEGIN:DAYLIGHT
TZOFFSETFROM:-0800
TZOFFSETTO:-0700
TZNAME:PDT
DTSTART:20270314T100000
END:DAYLIGHT
BEGIN:STANDARD
TZOFFSETFROM:-0700
TZOFFSETTO:-0800
TZNAME:PST
DTSTART:20271107T090000
END:STANDARD
END:VTIMEZONE
BEGIN:VEVENT
DTSTART;TZID=America/Los_Angeles:20251016T150000
DTEND;TZID=America/Los_Angeles:20251016T190000
DTSTAMP:20260420T051739
CREATED:20250512T210306Z
LAST-MODIFIED:20250512T210306Z
UID:8208-1760626800-1760641200@theskagittable.com
SUMMARY:TST Booth @ Snohomish Farmers Market
DESCRIPTION:We will have a recurring booth at The Snohomish Farmers Market! \nThe Snohomish Farmers Market has been serving the Snohomish community and beyond for 35 years in 2025. They help cultivate a vibrant community hub that connects local farmers\, artisans\, and consumers by providing access to fresh\, sustainably grown food and handcrafted goods. \n2025 Season: Thursday May 1st through October 30th | 3-7pm  RAIN OR SHINE!
URL:https://theskagittable.com/event/tst-booth-snohomish-farmers-market-18/
LOCATION:Snohomish Farmers Market\, 2801 Bickford Ave. Ste. 103 PMB# 104\, Snohomish\, WA\, 98290\, United States
CATEGORIES:Farmers Market
ATTACH;FMTTYPE=image/png:https://theskagittable.com/wp-content/uploads/2025/05/Snohomish-Farmers-Market.png
END:VEVENT
BEGIN:VEVENT
DTSTART;TZID=America/Los_Angeles:20251018T100000
DTEND;TZID=America/Los_Angeles:20251018T140000
DTSTAMP:20260420T051739
CREATED:20250328T191611Z
LAST-MODIFIED:20250328T191611Z
UID:8134-1760781600-1760796000@theskagittable.com
SUMMARY:Bellingham Farmers Market
DESCRIPTION:We will have a recurring booth at The Bellingham Farmers Market! \nThe Bellingham Farmers Market is more than just a place to buy fresh produce and hand crafted products. It fosters a sense of community and acts a gathering place for friends and family. \nThe 100+ stall market is a favorite among locals and tourists alike. The market brings many people to downtown Bellingham throughout the seasons. \nYear after year\, the market remains a vibrant gathering place for the community and continues to foster a culture of shopping local.
URL:https://theskagittable.com/event/bellingham-farmers-market-14/
LOCATION:Bellingham Farmers Market\, 1100 Railroad Ave\, Bellingham\, WA\, 98225\, United States
CATEGORIES:Farmers Market
ATTACH;FMTTYPE=image/png:https://theskagittable.com/wp-content/uploads/2025/03/VendorNewsletterheading5-e1743187037195.png
ORGANIZER;CN="Bellingham Farmers Market":MAILTO:market@bellinghamfarmers.org
END:VEVENT
BEGIN:VEVENT
DTSTART;TZID=America/Los_Angeles:20251023T150000
DTEND;TZID=America/Los_Angeles:20251023T190000
DTSTAMP:20260420T051739
CREATED:20250512T210439Z
LAST-MODIFIED:20250512T210439Z
UID:8210-1761231600-1761246000@theskagittable.com
SUMMARY:TST Booth @ Snohomish Farmers Market
DESCRIPTION:We will have a recurring booth at The Snohomish Farmers Market! \nThe Snohomish Farmers Market has been serving the Snohomish community and beyond for 35 years in 2025. They help cultivate a vibrant community hub that connects local farmers\, artisans\, and consumers by providing access to fresh\, sustainably grown food and handcrafted goods. \n2025 Season: Thursday May 1st through October 30th | 3-7pm  RAIN OR SHINE!
URL:https://theskagittable.com/event/tst-booth-snohomish-farmers-market-19/
LOCATION:Snohomish Farmers Market\, 2801 Bickford Ave. Ste. 103 PMB# 104\, Snohomish\, WA\, 98290\, United States
CATEGORIES:Farmers Market
ATTACH;FMTTYPE=image/png:https://theskagittable.com/wp-content/uploads/2025/05/Snohomish-Farmers-Market.png
END:VEVENT
BEGIN:VEVENT
DTSTART;TZID=America/Los_Angeles:20251030T150000
DTEND;TZID=America/Los_Angeles:20251030T190000
DTSTAMP:20260420T051739
CREATED:20250512T210705Z
LAST-MODIFIED:20250512T210705Z
UID:8212-1761836400-1761850800@theskagittable.com
SUMMARY:TST Booth @ Snohomish Farmers Market
DESCRIPTION:We will have a recurring booth at The Snohomish Farmers Market! \nThe Snohomish Farmers Market has been serving the Snohomish community and beyond for 35 years in 2025. They help cultivate a vibrant community hub that connects local farmers\, artisans\, and consumers by providing access to fresh\, sustainably grown food and handcrafted goods. \n2025 Season: Thursday May 1st through October 30th | 3-7pm  RAIN OR SHINE!
URL:https://theskagittable.com/event/tst-booth-snohomish-farmers-market-20/
LOCATION:Snohomish Farmers Market\, 2801 Bickford Ave. Ste. 103 PMB# 104\, Snohomish\, WA\, 98290\, United States
CATEGORIES:Farmers Market
ATTACH;FMTTYPE=image/png:https://theskagittable.com/wp-content/uploads/2025/05/Snohomish-Farmers-Market.png
END:VEVENT
BEGIN:VEVENT
DTSTART;TZID=America/Los_Angeles:20251101T100000
DTEND;TZID=America/Los_Angeles:20251101T140000
DTSTAMP:20260420T051739
CREATED:20250328T191725Z
LAST-MODIFIED:20250328T191725Z
UID:8136-1761991200-1762005600@theskagittable.com
SUMMARY:Bellingham Farmers Market
DESCRIPTION:We will have a recurring booth at The Bellingham Farmers Market! \nThe Bellingham Farmers Market is more than just a place to buy fresh produce and hand crafted products. It fosters a sense of community and acts a gathering place for friends and family. \nThe 100+ stall market is a favorite among locals and tourists alike. The market brings many people to downtown Bellingham throughout the seasons. \nYear after year\, the market remains a vibrant gathering place for the community and continues to foster a culture of shopping local.
URL:https://theskagittable.com/event/bellingham-farmers-market-15/
LOCATION:Bellingham Farmers Market\, 1100 Railroad Ave\, Bellingham\, WA\, 98225\, United States
CATEGORIES:Farmers Market
ATTACH;FMTTYPE=image/png:https://theskagittable.com/wp-content/uploads/2025/03/VendorNewsletterheading5-e1743187037195.png
ORGANIZER;CN="Bellingham Farmers Market":MAILTO:market@bellinghamfarmers.org
END:VEVENT
BEGIN:VEVENT
DTSTART;TZID=America/Los_Angeles:20251108T150000
DTEND;TZID=America/Los_Angeles:20251108T180000
DTSTAMP:20260420T051739
CREATED:20251016T031343Z
LAST-MODIFIED:20251016T031343Z
UID:8457-1762614000-1762624800@theskagittable.com
SUMMARY:Chili and Chowder Cookoff
DESCRIPTION:-Preorder $20 tickets https://www.eventbrite.com/e/28th-annual-chili-chowder-cook-off-tickets-1704421032189?aff=oddtdtcreator \n-$25 at the door \n-Each ticket gets you 10 tastings \n-3-6pm \n-Come vote for our Smoked Brisket Chili!!
URL:https://theskagittable.com/event/chili-and-chowder-cookoff/
LOCATION:The Camano Center\, 606 Arrowhead Road\, Camano Island\, WA\, 98282\, United States
END:VEVENT
BEGIN:VEVENT
DTSTART;TZID=America/Los_Angeles:20251115T100000
DTEND;TZID=America/Los_Angeles:20251115T140000
DTSTAMP:20260420T051739
CREATED:20250328T191809Z
LAST-MODIFIED:20250328T191809Z
UID:8138-1763200800-1763215200@theskagittable.com
SUMMARY:Bellingham Farmers Market
DESCRIPTION:We will have a recurring booth at The Bellingham Farmers Market! \nThe Bellingham Farmers Market is more than just a place to buy fresh produce and hand crafted products. It fosters a sense of community and acts a gathering place for friends and family. \nThe 100+ stall market is a favorite among locals and tourists alike. The market brings many people to downtown Bellingham throughout the seasons. \nYear after year\, the market remains a vibrant gathering place for the community and continues to foster a culture of shopping local.
URL:https://theskagittable.com/event/bellingham-farmers-market-16/
LOCATION:Bellingham Farmers Market\, 1100 Railroad Ave\, Bellingham\, WA\, 98225\, United States
CATEGORIES:Farmers Market
ATTACH;FMTTYPE=image/png:https://theskagittable.com/wp-content/uploads/2025/03/VendorNewsletterheading5-e1743187037195.png
ORGANIZER;CN="Bellingham Farmers Market":MAILTO:market@bellinghamfarmers.org
END:VEVENT
BEGIN:VEVENT
DTSTART;TZID=America/Los_Angeles:20251206T100000
DTEND;TZID=America/Los_Angeles:20251206T140000
DTSTAMP:20260420T051739
CREATED:20250328T192231Z
LAST-MODIFIED:20250328T192231Z
UID:8140-1765015200-1765029600@theskagittable.com
SUMMARY:Bellingham Farmers Market
DESCRIPTION:We will have a recurring booth at The Bellingham Farmers Market! \nThe Bellingham Farmers Market is more than just a place to buy fresh produce and hand crafted products. It fosters a sense of community and acts a gathering place for friends and family. \nThe 100+ stall market is a favorite among locals and tourists alike. The market brings many people to downtown Bellingham throughout the seasons. \nYear after year\, the market remains a vibrant gathering place for the community and continues to foster a culture of shopping local.
URL:https://theskagittable.com/event/bellingham-farmers-market-17/
LOCATION:Bellingham Farmers Market\, 1100 Railroad Ave\, Bellingham\, WA\, 98225\, United States
CATEGORIES:Farmers Market
ATTACH;FMTTYPE=image/png:https://theskagittable.com/wp-content/uploads/2025/03/VendorNewsletterheading5-e1743187037195.png
ORGANIZER;CN="Bellingham Farmers Market":MAILTO:market@bellinghamfarmers.org
END:VEVENT
BEGIN:VEVENT
DTSTART;TZID=America/Los_Angeles:20251220T100000
DTEND;TZID=America/Los_Angeles:20251220T140000
DTSTAMP:20260420T051739
CREATED:20250328T192317Z
LAST-MODIFIED:20250328T192317Z
UID:8142-1766224800-1766239200@theskagittable.com
SUMMARY:Bellingham Farmers Market
DESCRIPTION:We will have a recurring booth at The Bellingham Farmers Market! \nThe Bellingham Farmers Market is more than just a place to buy fresh produce and hand crafted products. It fosters a sense of community and acts a gathering place for friends and family. \nThe 100+ stall market is a favorite among locals and tourists alike. The market brings many people to downtown Bellingham throughout the seasons. \nYear after year\, the market remains a vibrant gathering place for the community and continues to foster a culture of shopping local.
URL:https://theskagittable.com/event/bellingham-farmers-market-18/
LOCATION:Bellingham Farmers Market\, 1100 Railroad Ave\, Bellingham\, WA\, 98225\, United States
CATEGORIES:Farmers Market
ATTACH;FMTTYPE=image/png:https://theskagittable.com/wp-content/uploads/2025/03/VendorNewsletterheading5-e1743187037195.png
ORGANIZER;CN="Bellingham Farmers Market":MAILTO:market@bellinghamfarmers.org
END:VEVENT
BEGIN:VEVENT
DTSTART;TZID=America/Los_Angeles:20260117T100000
DTEND;TZID=America/Los_Angeles:20260117T140000
DTSTAMP:20260420T051739
CREATED:20250328T192405Z
LAST-MODIFIED:20250328T192405Z
UID:8144-1768644000-1768658400@theskagittable.com
SUMMARY:Bellingham Farmers Market
DESCRIPTION:We will have a recurring booth at The Bellingham Farmers Market! \nThe Bellingham Farmers Market is more than just a place to buy fresh produce and hand crafted products. It fosters a sense of community and acts a gathering place for friends and family. \nThe 100+ stall market is a favorite among locals and tourists alike. The market brings many people to downtown Bellingham throughout the seasons. \nYear after year\, the market remains a vibrant gathering place for the community and continues to foster a culture of shopping local.
URL:https://theskagittable.com/event/bellingham-farmers-market-19/
LOCATION:Bellingham Farmers Market\, 1100 Railroad Ave\, Bellingham\, WA\, 98225\, United States
CATEGORIES:Farmers Market
ATTACH;FMTTYPE=image/png:https://theskagittable.com/wp-content/uploads/2025/03/VendorNewsletterheading5-e1743187037195.png
ORGANIZER;CN="Bellingham Farmers Market":MAILTO:market@bellinghamfarmers.org
END:VEVENT
BEGIN:VEVENT
DTSTART;TZID=America/Los_Angeles:20260221T100000
DTEND;TZID=America/Los_Angeles:20260221T140000
DTSTAMP:20260420T051739
CREATED:20250328T192452Z
LAST-MODIFIED:20250328T192452Z
UID:8146-1771668000-1771682400@theskagittable.com
SUMMARY:Bellingham Farmers Market
DESCRIPTION:We will have a recurring booth at The Bellingham Farmers Market! \nThe Bellingham Farmers Market is more than just a place to buy fresh produce and hand crafted products. It fosters a sense of community and acts a gathering place for friends and family. \nThe 100+ stall market is a favorite among locals and tourists alike. The market brings many people to downtown Bellingham throughout the seasons. \nYear after year\, the market remains a vibrant gathering place for the community and continues to foster a culture of shopping local.
URL:https://theskagittable.com/event/bellingham-farmers-market-20/
LOCATION:Bellingham Farmers Market\, 1100 Railroad Ave\, Bellingham\, WA\, 98225\, United States
CATEGORIES:Farmers Market
ATTACH;FMTTYPE=image/png:https://theskagittable.com/wp-content/uploads/2025/03/VendorNewsletterheading5-e1743187037195.png
ORGANIZER;CN="Bellingham Farmers Market":MAILTO:market@bellinghamfarmers.org
END:VEVENT
BEGIN:VEVENT
DTSTART;TZID=America/Los_Angeles:20260321T100000
DTEND;TZID=America/Los_Angeles:20260321T140000
DTSTAMP:20260420T051739
CREATED:20250328T192533Z
LAST-MODIFIED:20250328T192533Z
UID:8148-1774087200-1774101600@theskagittable.com
SUMMARY:Bellingham Farmers Market
DESCRIPTION:We will have a recurring booth at The Bellingham Farmers Market! \nThe Bellingham Farmers Market is more than just a place to buy fresh produce and hand crafted products. It fosters a sense of community and acts a gathering place for friends and family. \nThe 100+ stall market is a favorite among locals and tourists alike. The market brings many people to downtown Bellingham throughout the seasons. \nYear after year\, the market remains a vibrant gathering place for the community and continues to foster a culture of shopping local.
URL:https://theskagittable.com/event/bellingham-farmers-market-21/
LOCATION:Bellingham Farmers Market\, 1100 Railroad Ave\, Bellingham\, WA\, 98225\, United States
CATEGORIES:Farmers Market
ATTACH;FMTTYPE=image/png:https://theskagittable.com/wp-content/uploads/2025/03/VendorNewsletterheading5-e1743187037195.png
ORGANIZER;CN="Bellingham Farmers Market":MAILTO:market@bellinghamfarmers.org
END:VEVENT
END:VCALENDAR