BEGIN:VCALENDAR
VERSION:2.0
PRODID:-//The Skagit Table - ECPv6.15.18//NONSGML v1.0//EN
CALSCALE:GREGORIAN
METHOD:PUBLISH
X-ORIGINAL-URL:https://theskagittable.com
X-WR-CALDESC:Events for The Skagit Table
REFRESH-INTERVAL;VALUE=DURATION:PT1H
X-Robots-Tag:noindex
X-PUBLISHED-TTL:PT1H
BEGIN:VTIMEZONE
TZID:America/Los_Angeles
BEGIN:DAYLIGHT
TZOFFSETFROM:-0800
TZOFFSETTO:-0700
TZNAME:PDT
DTSTART:20230312T100000
END:DAYLIGHT
BEGIN:STANDARD
TZOFFSETFROM:-0700
TZOFFSETTO:-0800
TZNAME:PST
DTSTART:20231105T090000
END:STANDARD
BEGIN:DAYLIGHT
TZOFFSETFROM:-0800
TZOFFSETTO:-0700
TZNAME:PDT
DTSTART:20240310T100000
END:DAYLIGHT
BEGIN:STANDARD
TZOFFSETFROM:-0700
TZOFFSETTO:-0800
TZNAME:PST
DTSTART:20241103T090000
END:STANDARD
BEGIN:DAYLIGHT
TZOFFSETFROM:-0800
TZOFFSETTO:-0700
TZNAME:PDT
DTSTART:20250309T100000
END:DAYLIGHT
BEGIN:STANDARD
TZOFFSETFROM:-0700
TZOFFSETTO:-0800
TZNAME:PST
DTSTART:20251102T090000
END:STANDARD
END:VTIMEZONE
BEGIN:VEVENT
DTSTART;TZID=America/Los_Angeles:20241011T100000
DTEND;TZID=America/Los_Angeles:20241011T160000
DTSTAMP:20260422T171019
CREATED:20240926T190056Z
LAST-MODIFIED:20240926T190056Z
UID:7396-1728640800-1728662400@theskagittable.com
SUMMARY:The Skagit Table Booth at Gordon Skagit Farms
DESCRIPTION:Come celebrate Fall with us at Gordon Skagit Farms! We’re bringing Smoked Brisket Chili! \nWe will have a booth selling many of the grab and go items that we sell in our storefront. All of our items that we bring to market are made from scratch in our kitchen and free of gluten\, soy\, vegetable oil\, and refined sugar.
URL:https://theskagittable.com/event/the-skagit-table-booth-at-gordon-skagit-farms/
LOCATION:Gordon Skagit Farms\, 15598 McLean Rd\, Mount Vernon\, 98273\, United States
CATEGORIES:Market
ATTACH;FMTTYPE=image/jpeg:https://theskagittable.com/wp-content/uploads/2024/08/pumpkins_gsf2022_9.jpg
END:VEVENT
BEGIN:VEVENT
DTSTART;TZID=America/Los_Angeles:20241012T090000
DTEND;TZID=America/Los_Angeles:20241012T140000
DTSTAMP:20260422T171019
CREATED:20241001T165830Z
LAST-MODIFIED:20241001T170229Z
UID:7425-1728723600-1728741600@theskagittable.com
SUMMARY:The Skagit Table Booth at the Mount Vernon Farmers Market
DESCRIPTION:The Mount Vernon Farmers Market supports local farmers in a family-friendly environment offering fresh food\, locally grown produce and baked goods. In addition\, the Market features a variety of hand-made products along with live music\, kid’s activities & cooking demonstrations. Saturdays 9a-2p. \nWe will have a booth selling many of the grab and go items that we sell in our storefront. All of our items that we bring to market are made from scratch in our kitchen and free of gluten\, soy\, vegetable oil\, and refined sugar.
URL:https://theskagittable.com/event/the-skagit-table-booth-at-the-mount-vernon-farmers-market-2/
LOCATION:Riverwalk Park\, 501 Main Street\, Mount Vernon\, WA\, 98273\, United States
CATEGORIES:Farmers Market
ATTACH;FMTTYPE=image/jpeg:https://theskagittable.com/wp-content/uploads/2024/08/CBK6175-1-2048x1367-1.jpg
ORGANIZER;CN="Mount Vernon Farmers Market":MAILTO:ed@mountvernonfarmersmarket.org
END:VEVENT
BEGIN:VEVENT
DTSTART;TZID=America/Los_Angeles:20241018T100000
DTEND;TZID=America/Los_Angeles:20241018T160000
DTSTAMP:20260422T171019
CREATED:20240926T190217Z
LAST-MODIFIED:20240926T191446Z
UID:7398-1729245600-1729267200@theskagittable.com
SUMMARY:The Skagit Table Booth at Gordon Skagit Farms
DESCRIPTION:Come celebrate Fall with us at Gordon Skagit Farms! We’re bringing Smoked Brisket Chili! \nWe will have a booth selling many of the grab and go items that we sell in our storefront. All of our items that we bring to market are made from scratch in our kitchen and free of gluten\, soy\, vegetable oil\, and refined sugar.
URL:https://theskagittable.com/event/the-skagit-table-booth-at-gordon-skagit-farms-2/
LOCATION:Gordon Skagit Farms\, 15598 McLean Rd\, Mount Vernon\, 98273\, United States
CATEGORIES:Market
ATTACH;FMTTYPE=image/jpeg:https://theskagittable.com/wp-content/uploads/2024/09/gsf_batch4_352.jpg
END:VEVENT
BEGIN:VEVENT
DTSTART;TZID=America/Los_Angeles:20241019T150000
DTEND;TZID=America/Los_Angeles:20241019T170000
DTSTAMP:20260422T171019
CREATED:20241001T201920Z
LAST-MODIFIED:20241001T202729Z
UID:7431-1729350000-1729357200@theskagittable.com
SUMMARY:Basics of Soup Making Cooking Class
DESCRIPTION:Basics of Soup Making Cooking Class with Chef Courtney Bourasaw; Saturday\, October 19th from 3-5PM; Cost $75 \nJoin us Saturday\, October 19th at The Skagit Table and learn the basics of soup making with Chef Courtney! \nThis is a hands on class where you will work alongside Chef Courtney to make soup while learning the essentials that will help you in preparing future soups. \nYou will learn basic cooking\, chopping\, prepping skills as well as how to enhance flavors when making soups and stews. We will also dive into sourcing locally and how to use ingredients from local farms in our area!
URL:https://theskagittable.com/event/basics-of-soup-making-cooking-class/
LOCATION:The Skagit Table\, 225 S 1st St\, Mount Vernon\, WA\, 98273\, United States
CATEGORIES:Cooking Class
ATTACH;FMTTYPE=image/png:https://theskagittable.com/wp-content/uploads/2024/10/Screen-Shot-2024-10-01-at-1.27.00-PM.png
ORGANIZER;CN="The Skagit Table":MAILTO:contact@theskagittable.com
END:VEVENT
BEGIN:VEVENT
DTSTART;TZID=America/Los_Angeles:20241025T100000
DTEND;TZID=America/Los_Angeles:20241025T160000
DTSTAMP:20260422T171019
CREATED:20240926T190349Z
LAST-MODIFIED:20240926T190615Z
UID:7400-1729850400-1729872000@theskagittable.com
SUMMARY:The Skagit Table Booth at Gordon Skagit Farms
DESCRIPTION:Come celebrate Fall with us at Gordon Skagit Farms! We’re bringing Smoked Brisket Chili! \nWe will have a booth selling many of the grab and go items that we sell in our storefront. All of our items that we bring to market are made from scratch in our kitchen and free of gluten\, soy\, vegetable oil\, and refined sugar.
URL:https://theskagittable.com/event/the-skagit-table-booth-at-gordon-skagit-farms-3/
LOCATION:Gordon Skagit Farms\, 15598 McLean Rd\, Mount Vernon\, 98273\, United States
CATEGORIES:Market
ATTACH;FMTTYPE=image/jpeg:https://theskagittable.com/wp-content/uploads/2024/09/pumpkins_gsf2022_238.jpg
END:VEVENT
END:VCALENDAR